BEGIN:VCALENDAR
VERSION:2.0
PRODID:-//ChamberMaster//Event Calendar 2.0//EN
METHOD:PUBLISH
X-PUBLISHED-TTL:P3D
REFRESH-INTERVAL:P3D
CALSCALE:GREGORIAN
BEGIN:VEVENT
DTSTART:20220915T222500Z
DTEND:20220916T000000Z
X-MICROSOFT-CDO-ALLDAYEVENT:FALSE
SUMMARY:Y-Pro September Social
DESCRIPTION:Yard Games & Social\n\nBring your  own beverages
X-ALT-DESC;FMTTYPE=text/html:Yard Games &amp\; Social<br />\nBring your&nbsp\; own beverages<br />\n&nbsp\;
LOCATION:Mineral Springs Park
UID:e.2834.34890
SEQUENCE:3
DTSTAMP:20260424T182219Z
URL:https://chamber.owatonna.org/events/details/y-pro-september-social-34890
END:VEVENT

END:VCALENDAR
