BEGIN:VCALENDAR
VERSION:2.0
PRODID:-//ChamberMaster//Event Calendar 2.0//EN
METHOD:PUBLISH
X-PUBLISHED-TTL:P3D
REFRESH-INTERVAL:P3D
CALSCALE:GREGORIAN
BEGIN:VEVENT
DTSTART:20260502T130000Z
DTEND:20260502T200000Z
X-MICROSOFT-CDO-ALLDAYEVENT:FALSE
SUMMARY:Rustic Mamas
DESCRIPTION:An upscale market that you will find everything from candles\, jewelry\, boutiques\, wood works\, barn wood creations\, iron creations\, flipped and restored furniture\, repurposed\, vintage\, foodies\, and so much more. Outdoor market with food trucks and outside vendors. Over 100+ of the best vendors under one roof! It's a one day sale located inside The Four Seasons Centre at the fairgrounds. Free parking and entry.\n\nIf you are interested in being a vendor at our shows\, email us! (therusticmas@yahoo.com) please include up to four pictures of your work and include a prior booth set up.
X-ALT-DESC;FMTTYPE=text/html:An upscale market that you will find everything from candles\, jewelry\, boutiques\, wood works\, barn wood creations\, iron creations\, flipped and restored furniture\, repurposed\, vintage\, foodies\, and so much more. Outdoor market with food trucks and outside vendors. Over 100+ of the best vendors under one roof! It&rsquo\;s a one day sale located inside The Four Seasons Centre at the fairgrounds. Free parking and entry.<br />\nIf you are interested in being a vendor at our shows\, email us! (therusticmas@yahoo.com) please include up to four pictures of your work and include a prior booth set up.
LOCATION:
UID:e.2834.35764
SEQUENCE:3
DTSTAMP:20260422T213453Z
URL:https://chamber.owatonna.org/events/details/rustic-mamas-35764
END:VEVENT

END:VCALENDAR
