BEGIN:VCALENDAR
VERSION:2.0
PRODID:-//ChamberMaster//Event Calendar 2.0//EN
METHOD:PUBLISH
X-PUBLISHED-TTL:P3D
REFRESH-INTERVAL:P3D
CALSCALE:GREGORIAN
BEGIN:VEVENT
DTSTART:20231003T223000Z
DTEND:20231004T000000Z
X-MICROSOFT-CDO-ALLDAYEVENT:FALSE
SUMMARY:Mixology Class
DESCRIPTION:Mixology Class\n\nOctober 3rd\, 2023\n\nOwatonna Country Club\, 5:30-7\n\nInterested in making fun drinks of your own? Attend this event at the Owatonna Country Club to learn how to make specialty cocktails! An experienced mixologist will teach the Young Professionals what it's all about! More details to come!
X-ALT-DESC;FMTTYPE=text/html:<strong><span style="color:#548235\;"><span style="font-size:14.0pt\;">Mixology Class</span></span></strong><br />\n<span style="font-size: 16px\;"><b>October 3rd\, 2023</b></span><br />\n<strong><span style="font-size:12.0pt\;">Owatonna Country Club\, 5:30-7</span></strong><br />\nInterested in making fun drinks of your own? Attend this event at the Owatonna Country Club to learn how to make specialty cocktails! An experienced mixologist will teach the Young Professionals what it&rsquo\;s all about! More details to come!
LOCATION:Owatonna Country Club 1991 Lemond Road Owatonna
UID:e.2834.34979
SEQUENCE:3
DTSTAMP:20260421T153359Z
URL:https://chamber.owatonna.org/events/details/mixology-class-34979
END:VEVENT

END:VCALENDAR
