BEGIN:VCALENDAR
VERSION:2.0
PRODID:-//ChamberMaster//Event Calendar 2.0//EN
METHOD:PUBLISH
X-PUBLISHED-TTL:P3D
REFRESH-INTERVAL:P3D
CALSCALE:GREGORIAN
BEGIN:VEVENT
DTSTART:20250220T133000Z
DTEND:20250220T150000Z
X-MICROSOFT-CDO-ALLDAYEVENT:FALSE
SUMMARY:Chamber Growth Breakfast Series
DESCRIPTION:Featuring: Driving Economic Growth: MN DEED Business Development Leader\, Local Developer\, and Business Owner Discuss Opportunities & Innovation\n\nShaping Owatonna's Future: Innovation\, Growth & Opportunity\n\nOwatonna is on the rise! With exciting developments\, new business opportunities\, and forward-thinking leadership\, now is the time to be part of the momentum. This month\, we spotlight the key players shaping our community's economic future:\n\nCatalina Valencia   Business Development Executive Director\, MN DEED\n\nA global expert in economic development\, Catalina is leading the charge to attract\, retain\, and expand businesses across Minnesota. Her team is building a pipeline of opportunities to put our state on the map!\n\nDarrin Stadheim   Owner\, Redline Development Group\n\nDarrin is bringing us an exciting update on the Ascend Project\, Phase Two. What's next for this game-changing development in Owatonna? Stay tuned!\n\nTroy Klecker   Community Development\, City of Owatonna\n\nWhat's in store for Owatonna's future? Troy will share how the city is strategically fostering growth and creating opportunities for local businesses.\n\nBill Cronin   Co-Owner/President/Marketing\, Mineral Springs Brewery\n\nAs a business leader and innovator\, Bill knows what it takes to build a thriving enterprise. Learn how local businesses can leverage creativity and community support to succeed.
X-ALT-DESC;FMTTYPE=text/html:<strong><span style="font-size:20px\;">Featuring:&nbsp\;</span></strong><!--StartFragment--><strong><span style="font-size:18px\;"><span data-olk-copy-source="MessageBody"><u><span style="font-size:20px\;"><span style="font-family:comic sans ms\;"><em>Driving Economic Growth:</em></span></span></u> MN DEED Business Development Leader\, Local Developer\, and Business Owner Discuss Opportunities &amp\; Innovation</span></span></strong>\n<div class="x_elementToProof" style="border: 0px\; font-variant-numeric: inherit\; font-variant-east-asian: inherit\; font-variant-alternates: inherit\; font-variant-position: inherit\; font-variant-emoji: inherit\; font-stretch: inherit\; font-size: 12pt\; line-height: inherit\; font-family: Aptos\, Aptos_EmbeddedFont\, Aptos_MSFontService\, Calibri\, Helvetica\, sans-serif\; font-optical-sizing: inherit\; font-size-adjust: inherit\; font-kerning: inherit\; font-feature-settings: inherit\; font-variation-settings: inherit\; margin: 0px\; padding: 0px\; vertical-align: baseline\; color: rgb(0\, 0\, 0) !important\;">\n<p class="x_MsoNormal" style="margin: 0in\; font-size: 12pt\; font-family: Aptos\, sans-serif\; color: rgb(36\, 36\, 36)\; background-color: rgb(255\, 255\, 255)\;"><b data-olk-copy-source="MessageBody">Shaping Owatonna&rsquo\;s Future: Innovation\, Growth &amp\; Opportunity</b></p>\n\n<p class="x_MsoNormal" style="margin: 0in\; font-size: 12pt\; font-family: Aptos\, sans-serif\; color: rgb(36\, 36\, 36)\; background-color: rgb(255\, 255\, 255)\;">Owatonna is on the rise! With exciting developments\, new business opportunities\, and forward-thinking leadership\, now is the time to be part of the momentum. This month\, we spotlight the key players shaping our community&rsquo\;s economic future:</p>\n\n<p class="x_MsoNormal" style="margin: 0in\; font-size: 12pt\; font-family: Aptos\, sans-serif\; color: rgb(36\, 36\, 36)\; background-color: rgb(255\, 255\, 255)\;"><b>Catalina Valencia &ndash\; Business Development Executive Director\, MN DEED</b><br />\nA global expert in economic development\, Catalina is leading the charge to attract\, retain\, and expand businesses across Minnesota. Her team is building a pipeline of opportunities to put our state on the map!</p>\n\n<p class="x_MsoNormal" style="margin: 0in\; font-size: 12pt\; font-family: Aptos\, sans-serif\; color: rgb(36\, 36\, 36)\; background-color: rgb(255\, 255\, 255)\;"><b>Darrin Stadheim &ndash\; Owner\, Redline Development Group</b><br />\nDarrin is bringing us an exciting update on the Ascend Project\, Phase Two. What&rsquo\;s next for this game-changing development in Owatonna? Stay tuned!</p>\n\n<p class="x_MsoNormal" style="margin: 0in\; font-size: 12pt\; font-family: Aptos\, sans-serif\; color: rgb(36\, 36\, 36)\; background-color: rgb(255\, 255\, 255)\;"><b>Troy Klecker &ndash\; Community Development\, City of Owatonna</b><br />\nWhat&rsquo\;s in store for Owatonna&rsquo\;s future? Troy will share how the city is strategically fostering growth and creating opportunities for local businesses.</p>\n\n<p class="x_MsoNormal" style="margin: 0in\; font-size: 12pt\; font-family: Aptos\, sans-serif\; color: rgb(36\, 36\, 36)\; background-color: rgb(255\, 255\, 255)\;"><b>Bill Cronin &ndash\; Co-Owner/President/Marketing\, Mineral Springs Brewery</b><br />\nAs a business leader and innovator\, Bill knows what it takes to build a thriving enterprise. Learn how local businesses can leverage creativity and community support to succeed.</p>\n</div>\n
LOCATION:Torey's Event Space 7:30 to 9:00
UID:e.2834.35503
SEQUENCE:3
DTSTAMP:20260422T093122Z
URL:https://chamber.owatonna.org/events/details/chamber-growth-breakfast-series-02-20-2025-35503
END:VEVENT

END:VCALENDAR
