BEGIN:VCALENDAR
VERSION:2.0
PRODID:-//ChamberMaster//Event Calendar 2.0//EN
METHOD:PUBLISH
X-PUBLISHED-TTL:P3D
REFRESH-INTERVAL:P3D
CALSCALE:GREGORIAN
BEGIN:VEVENT
DTSTART:20200319T220000Z
DTEND:20200320T000000Z
X-MICROSOFT-CDO-ALLDAYEVENT:FALSE
SUMMARY:CANCELLED: 2020 Y-Pro March Social at Mineral Springs Brewery
DESCRIPTION:CANCELED DUE TO VIRUS! \n\n\n\nJoin us at Mineral Springs Brewery for drinks (non-alcoholic available)\, a brewery tour and time to connect with other Young Professionals after work. \n\n\n\n\n\nY-Pro Passes for 2020 are available for young professionals working in the Owatonna community\; passes are $40 per person and includes the Young Professional's admission to nine events to be held in 2020.  Those who don't purchase a Y-Pro Pass may attend Y-Pro events for a fee of $10 per event.
X-ALT-DESC;FMTTYPE=text/html:<strong>CANCELED DUE TO VIRUS!</strong>&nbsp\;<br />\n<br />\n<span style="color:#000000\;"><font face="calibri\, sans-serif"><span style="font-size: 16px\;">Join us at Mineral Springs Brewery for drinks (non-alcoholic available)\, a brewery tour and time to connect with other Young Professionals after work.&nbsp\;</span></font><br />\n<br />\n<br />\n<span style="font-size:11px\;">Y-Pro&nbsp\;Passes for 2020 are available for young professionals working in the Owatonna community\; passes are $40 per person and includes the Young Professional&#39\;s admission to nine events to be held in 2020.&nbsp\; Those who don&#39\;t purchase a Y-Pro&nbsp\;Pass may attend Y-Pro events for a fee of $10 per event.&nbsp\;&nbsp\;&nbsp\;&nbsp\;&nbsp\;&nbsp\;&nbsp\;&nbsp\;</span></span>
LOCATION:Mineral Springs Brewery 111 N Walnut Ave\, Owatonna
UID:e.2834.34260
SEQUENCE:3
DTSTAMP:20260424T180011Z
URL:https://chamber.owatonna.org/events/details/cancelled-2020-y-pro-march-social-at-mineral-springs-brewery-34260
END:VEVENT

END:VCALENDAR
