BEGIN:VCALENDAR
VERSION:2.0
PRODID:-//ChamberMaster//Event Calendar 2.0//EN
METHOD:PUBLISH
X-PUBLISHED-TTL:P3D
REFRESH-INTERVAL:P3D
CALSCALE:GREGORIAN
BEGIN:VEVENT
DTSTART:20201117T233000Z
DTEND:20201118T000000Z
X-MICROSOFT-CDO-ALLDAYEVENT:FALSE
SUMMARY:Business After Hours - November 2020
DESCRIPTION:No in-person event.  Check us out virtually on FaceBook!  \n\n\n\nLike and share the post for a chance to win Torey's Gift Cards!
X-ALT-DESC;FMTTYPE=text/html:<span style="font-size:20px\;"><strong><span style="font-family: Arial\;">No in-person event.&nbsp\; Check us out virtually on FaceBook!&nbsp\;&nbsp\;<br />\n<br />\nLike and share the post for a chance to win Torey&#39\;s Gift Cards!</span></strong></span>
LOCATION:
UID:e.2834.33262
SEQUENCE:3
DTSTAMP:20260425T111434Z
URL:https://chamber.owatonna.org/events/details/business-after-hours-november-2020-33262
END:VEVENT

END:VCALENDAR
