BEGIN:VCALENDAR
VERSION:2.0
PRODID:-//ChamberMaster//Event Calendar 2.0//EN
METHOD:PUBLISH
X-PUBLISHED-TTL:P3D
REFRESH-INTERVAL:P3D
CALSCALE:GREGORIAN
BEGIN:VEVENT
DTSTART:20190809T223000Z
DTEND:20190810T000000Z
X-MICROSOFT-CDO-ALLDAYEVENT:FALSE
SUMMARY:Business After Hours - August 7\, 2020
DESCRIPTION:Join us for this casual social event that begins at 5:30 pm. Feel free to bring a promotional door prize and your business cards!\n\nHosts are: SCFF\, Berkshire Hathaway \, Block Plumbing & Cash Wise Foods
X-ALT-DESC;FMTTYPE=text/html:<span style="font-family: Arial\;">Join us for this casual social event that begins at 5:30 pm. Feel free to bring a promotional door prize and your business cards!<br />\nHosts are: SCFF\, Berkshire Hathaway \, Block Plumbing &amp\; Cash Wise Foods</span>
LOCATION:Steele County Beer Garden 1525 S. Cedar Owatonna\, MN 55060
UID:e.2834.31346
SEQUENCE:3
DTSTAMP:20260421T212745Z
URL:https://chamber.owatonna.org/events/details/business-after-hours-august-7-2020-31346
END:VEVENT

END:VCALENDAR
