BEGIN:VCALENDAR
VERSION:2.0
PRODID:-//ChamberMaster//Event Calendar 2.0//EN
METHOD:PUBLISH
X-PUBLISHED-TTL:P3D
REFRESH-INTERVAL:P3D
CALSCALE:GREGORIAN
BEGIN:VEVENT
DTSTART:20250923T223000Z
DTEND:20250924T000000Z
X-MICROSOFT-CDO-ALLDAYEVENT:FALSE
SUMMARY:Business After Hours
DESCRIPTION:Free to all Chamber Members:\n\nBusiness After Hours is a networking event designed for professionals to connect\, socialize\, and build relationships in a casual setting. The Owatonna Chamber of Commerce hosts this event\, offering an opportunity for local business people to engage with peers\, learn about current happenings from event hosts\, and possibly win prizes.\n\nWith an average attendance of over 75 people\, it's a great chance to expand your professional network\, share ideas\, and stay informed about business trends in the community. The event is held on the last Tuesday of each month\, so it's a consistent opportunity to connect and grow your business relationships.\n\nInterested in attending or hosting? Let me know if you'd like more details on how to get involved!
X-ALT-DESC;FMTTYPE=text/html:<p style="box-sizing: border-box\; margin: 0px 0px 1rem\; padding: 0px\; border: 0px\; font-variant-numeric: inherit\; font-variant-east-asian: inherit\; font-variant-alternates: inherit\; font-variant-position: inherit\; font-variant-emoji: inherit\; font-stretch: inherit\; font-size: 14px\; line-height: 24px\; font-family: Lato\, Arial\, sans-serif\; font-optical-sizing: inherit\; font-size-adjust: inherit\; font-kerning: inherit\; font-feature-settings: inherit\; font-variation-settings: inherit\; vertical-align: baseline\; color: rgb(44\, 62\, 80)\; background-color: rgb(255\, 255\, 255)\;"><span class="gz-event-fees" style="box-sizing: border-box\; margin: 0px\; padding: 0px\; border: 0px\; font: inherit\; vertical-align: baseline\;"><em style="box-sizing: border-box\; margin: 0px\; padding: 0px\; border: 0px\; font-variant: inherit\; font-weight: inherit\; font-stretch: inherit\; font-size: 13px\; line-height: inherit\; font-family: sans-serif\, Arial\, Verdana\, &quot\;Trebuchet MS&quot\;\; font-optical-sizing: inherit\; font-size-adjust: inherit\; font-kerning: inherit\; font-feature-settings: inherit\; font-variation-settings: inherit\; vertical-align: baseline\; color: rgb(51\, 51\, 51)\;"><span style="box-sizing: border-box\; margin: 0px\; padding: 0px\; border: 0px\; font-style: inherit\; font-variant: inherit\; font-weight: inherit\; font-stretch: inherit\; font-size: 20px\; line-height: inherit\; font-family: inherit\; font-optical-sizing: inherit\; font-size-adjust: inherit\; font-kerning: inherit\; font-feature-settings: inherit\; font-variation-settings: inherit\; vertical-align: baseline\;">Free to all Chamber Members:</span></em></span></p>\n\n<p data-end="335" data-start="0" style="box-sizing: border-box\; margin: 0px 0px 1rem\; padding: 0px\; border: 0px\; font-variant-numeric: inherit\; font-variant-east-asian: inherit\; font-variant-alternates: inherit\; font-variant-position: inherit\; font-variant-emoji: inherit\; font-stretch: inherit\; font-size: 13px\; line-height: 24px\; font-family: sans-serif\, Arial\, Verdana\, &quot\;Trebuchet MS&quot\;\; font-optical-sizing: inherit\; font-size-adjust: inherit\; font-kerning: inherit\; font-feature-settings: inherit\; font-variation-settings: inherit\; vertical-align: baseline\; outline: 0px\; background-color: rgb(255\, 255\, 255)\; color: rgb(51\, 51\, 51)\;"><span style="box-sizing: border-box\; margin: 0px\; padding: 0px\; border: 0px\; font-style: inherit\; font-variant: inherit\; font-weight: inherit\; font-stretch: inherit\; font-size: 14px\; line-height: inherit\; font-family: inherit\; font-optical-sizing: inherit\; font-size-adjust: inherit\; font-kerning: inherit\; font-feature-settings: inherit\; font-variation-settings: inherit\; vertical-align: baseline\; outline: 0px\;"><span style="box-sizing: border-box\; margin: 0px\; padding: 0px\; border: 0px\; font-style: inherit\; font-variant: inherit\; font-weight: bolder\; font-stretch: inherit\; font-size: inherit\; line-height: inherit\; font-family: inherit\; font-optical-sizing: inherit\; font-size-adjust: inherit\; font-kerning: inherit\; font-feature-settings: inherit\; font-variation-settings: inherit\; vertical-align: baseline\; outline: 0px\;">Business After Hours is a networking event designed for professionals to connect\, socialize\, and build relationships in a casual setting. The Owatonna Chamber of Commerce hosts this event\, offering an opportunity for local business people to engage with peers\, learn about current happenings from event hosts\, and possibly win prizes.</span></span></p>\n\n<p data-end="650" data-start="337" style="box-sizing: border-box\; margin: 0px 0px 1rem\; padding: 0px\; border: 0px\; font-variant-numeric: inherit\; font-variant-east-asian: inherit\; font-variant-alternates: inherit\; font-variant-position: inherit\; font-variant-emoji: inherit\; font-stretch: inherit\; font-size: 13px\; line-height: 24px\; font-family: sans-serif\, Arial\, Verdana\, &quot\;Trebuchet MS&quot\;\; font-optical-sizing: inherit\; font-size-adjust: inherit\; font-kerning: inherit\; font-feature-settings: inherit\; font-variation-settings: inherit\; vertical-align: baseline\; background-color: rgb(255\, 255\, 255)\; color: rgb(51\, 51\, 51)\;"><span style="box-sizing: border-box\; margin: 0px\; padding: 0px\; border: 0px\; font-style: inherit\; font-variant: inherit\; font-weight: inherit\; font-stretch: inherit\; font-size: 14px\; line-height: inherit\; font-family: inherit\; font-optical-sizing: inherit\; font-size-adjust: inherit\; font-kerning: inherit\; font-feature-settings: inherit\; font-variation-settings: inherit\; vertical-align: baseline\;"><span style="box-sizing: border-box\; margin: 0px\; padding: 0px\; border: 0px\; font-style: inherit\; font-variant: inherit\; font-weight: bolder\; font-stretch: inherit\; font-size: inherit\; line-height: inherit\; font-family: inherit\; font-optical-sizing: inherit\; font-size-adjust: inherit\; font-kerning: inherit\; font-feature-settings: inherit\; font-variation-settings: inherit\; vertical-align: baseline\;">With an average attendance of over 75 people\, it&rsquo\;s a great chance to expand your professional network\, share ideas\, and stay informed about business trends in the community. The event is held on the&nbsp\;<span data-end="566" data-start="536" style="box-sizing: border-box\; margin: 0px\; padding: 0px\; border: 0px\; font-style: inherit\; font-variant: inherit\; font-weight: bolder\; font-stretch: inherit\; font-size: inherit\; line-height: inherit\; font-family: inherit\; font-optical-sizing: inherit\; font-size-adjust: inherit\; font-kerning: inherit\; font-feature-settings: inherit\; font-variation-settings: inherit\; vertical-align: baseline\;">last Tuesday of each month</span>\, so it&#39\;s a consistent opportunity to connect and grow your business relationships.</span></span></p>\n\n<p data-end="750" data-is-last-node="" data-is-only-node="" data-start="652" style="box-sizing: border-box\; margin: 0px 0px 1rem\; padding: 0px\; border: 0px\; font-variant-numeric: inherit\; font-variant-east-asian: inherit\; font-variant-alternates: inherit\; font-variant-position: inherit\; font-variant-emoji: inherit\; font-stretch: inherit\; font-size: 13px\; line-height: 24px\; font-family: sans-serif\, Arial\, Verdana\, &quot\;Trebuchet MS&quot\;\; font-optical-sizing: inherit\; font-size-adjust: inherit\; font-kerning: inherit\; font-feature-settings: inherit\; font-variation-settings: inherit\; vertical-align: baseline\; background-color: rgb(255\, 255\, 255)\; color: rgb(51\, 51\, 51)\;"><span style="box-sizing: border-box\; margin: 0px\; padding: 0px\; border: 0px\; font-style: inherit\; font-variant: inherit\; font-weight: inherit\; font-stretch: inherit\; font-size: 14px\; line-height: inherit\; font-family: inherit\; font-optical-sizing: inherit\; font-size-adjust: inherit\; font-kerning: inherit\; font-feature-settings: inherit\; font-variation-settings: inherit\; vertical-align: baseline\;"><span style="box-sizing: border-box\; margin: 0px\; padding: 0px\; border: 0px\; font-style: inherit\; font-variant: inherit\; font-weight: bolder\; font-stretch: inherit\; font-size: inherit\; line-height: inherit\; font-family: inherit\; font-optical-sizing: inherit\; font-size-adjust: inherit\; font-kerning: inherit\; font-feature-settings: inherit\; font-variation-settings: inherit\; vertical-align: baseline\;">Interested in attending or hosting? Let me know if you&rsquo\;d like more details on how to get involved!</span></span></p>\n
LOCATION:Host: Owatonna Foundation Location - Foundation Building
UID:e.2834.35655
SEQUENCE:3
DTSTAMP:20260422T051516Z
URL:https://chamber.owatonna.org/events/details/business-after-hours-35655
END:VEVENT

END:VCALENDAR
