BEGIN:VCALENDAR
VERSION:2.0
PRODID:-//ChamberMaster//Event Calendar 2.0//EN
METHOD:PUBLISH
X-PUBLISHED-TTL:P3D
REFRESH-INTERVAL:P3D
CALSCALE:GREGORIAN
BEGIN:VEVENT
DTSTART:20220128T233000Z
DTEND:20220129T023000Z
X-MICROSOFT-CDO-ALLDAYEVENT:FALSE
SUMMARY:2022 Chamber Annual Dinner
DESCRIPTION:Meal Choices:\n\n* Beef Medallions with red wine demi\; baby red potatoes and steam broccoli\n\n\n\n*Frenched Chicken Breast\; baby red potatoes and steam broccoli\n\n\n\n*Grilled Salmon with Dill Cream Sauce (on side)\; Rice medley and steam broccoli\n\n\n\nAll Entrees are served with Salad\, dinner rolls and plated Dessert.  **Please indicate any food allergies or vegetarian or vegan options needed.
X-ALT-DESC;FMTTYPE=text/html:<span style="font-size:14px\;"><u><strong>Meal Choices:</strong></u></span><br />\n*&nbsp\;<strong>Beef Medallions with red wine demi\; </strong>baby red potatoes and steam broccoli<br />\n<br />\n<strong>*Frenched Chicken Breast\; </strong>baby red potatoes and steam broccoli<br />\n<br />\n*<strong>Grilled Salmon with Dill Cream Sauce (on side)\;&nbsp\;</strong>Rice medley and steam broccoli<br />\n<br />\n<strong>All Entrees are served with Salad\, dinner rolls and plated Dessert.&nbsp\; **Please indicate any food allergies or vegetarian or vegan options needed.&nbsp\;</strong><br />\n<br />\n<br />\n&nbsp\;
LOCATION:Owatonna Country Club 1991 Lemond Road Owatonna\, MN 55060 Meal Choices: * Beef Medallions with red wine demi\; baby red potatoes and steam broccoli *Frenched Chicken Breast\; baby red potatoes and steam broccoli *Grilled Salmon with Dill Cream Sauce (on side)\; Rice medley and steam broccoli All Entrees are served with Salad\, dinner rolls and plated Dessert. **Please indicate any food allergies or vegetarian or vegan options needed.
UID:e.2834.34824
SEQUENCE:3
DTSTAMP:20260421T111749Z
URL:https://chamber.owatonna.org/events/details/2021-chamber-annual-dinner-34824
END:VEVENT

END:VCALENDAR
